BEGIN:VCALENDAR
VERSION:2.0
PRODID:-//TYPO3/NONSGML News system (news)//EN
BEGIN:VEVENT
TZID:Central Europe Standard Time
UID:news-5006@rt.reha.tu-dortmund.de
DTSTAMP:20260421T104536Z

DTSTART:20260830T140000
DTEND:20260830T170000


LOCATION:&amp;quot;Mensch und Computer&amp;quot; (MuC), Universität Duisburg-Essen

DESCRIPTION:https://rt.reha.tu-dortmund.de/veranstaltungsdetail/veranstaltung-2-48-5006/
SUMMARY:MuC 2026 Workshop
END:VEVENT
BEGIN:VEVENT
TZID:Central Europe Standard Time
UID:news-5007@rt.reha.tu-dortmund.de
DTSTAMP:20260421T100430Z

DTSTART:20240605


LOCATION:Internationales Begegnungszentrum (IBZ) der TU Dortmund

DESCRIPTION:https://rt.reha.tu-dortmund.de/veranstaltungsdetail/veranstaltung-1-44-5007/
SUMMARY:20 Jahre Rehabilitationstechnologie
END:VEVENT
END:VCALENDAR
